2.438400000000
0.000000000000
0.000000000000
-2.438400000000
488820.253124205570
4622583.269695074297
