2.438400000000
0.000000000000
0.000000000000
-2.438400000000
478205.216908175265
4553218.642651378177
