2.438400000000
0.000000000000
0.000000000000
-2.438400000000
457175.956954469497
4553311.569486808963
