2.438400000000
0.000000000000
0.000000000000
-2.438400000000
426045.098516177968
4595196.325007583946
