2.438400000000
0.000000000000
0.000000000000
-2.438400000000
415270.363013480441
4567556.140139935538
