2.438400000000
0.000000000000
0.000000000000
-2.438400000000
447056.152149804111
4608890.885697481222
