2.438400000000
0.000000000000
0.000000000000
-2.438400000000
468109.337021444633
4650402.941104254685
