2.438400000000
0.000000000000
0.000000000000
-2.438400000000
457412.434982549166
4594943.567793370225
