2.438400
0.000000
0.000000
-2.438400
665482.448355
4610916.492594
