2.438400
0.000000
0.000000
-2.438400
707811.987219
4598108.205916
