2.438400
0.000000
0.000000
-2.438400
737365.822571
4640839.282945
