2.438400
0.000000
0.000000
-2.438400
666496.648672
4569334.039787
