2.438400
0.000000
0.000000
-2.438400
739649.769312
4571475.552723
