2.438400
0.000000
0.000000
-2.438400
729620.370432
4557204.214851
