2.438400
0.000000
0.000000
-2.438400
685109.855155
4653048.878959
