25.400000
0.000000
0.000000
-25.400000
577003.644036
4659711.004928
