2.438400000000
0.000000000000
0.000000000000
-2.438400000000
656287.329918904346
4569014.058937113732
