2.438400000000
0.000000000000
0.000000000000
-2.438400000000
635083.401940080803
4582438.714368101209
