2.438400000000
0.000000000000
0.000000000000
-2.438400000000
624632.653738750727
4582233.409613187425
