2.438400000000
0.000000000000
0.000000000000
-2.438400000000
613516.012163282488
4623676.618439563550
