2.438400000000
0.000000000000
0.000000000000
-2.438400000000
645813.599005311611
4568780.951874958351
