2.438400000000
0.000000000000
0.000000000000
-2.438400000000
634559.657506489777
4610196.889382374473
