2.438400000000
0.000000000000
0.000000000000
-2.438400000000
624146.098144990741
4609992.001240923069
