2.438400000000
0.000000000000
0.000000000000
-2.438400000000
593632.565390244359
4553957.628818755969
