2.438400000000
0.000000000000
0.000000000000
-2.438400000000
644125.897240329417
4652053.558742442168
