2.438400000000
0.000000000000
0.000000000000
-2.438400000000
654480.172267917544
4652287.981602767482
