2.438400000000
0.000000000000
0.000000000000
-2.438400000000
541605.130669488804
4456405.027159063146
