2.438400000000
0.000000000000
0.000000000000
-2.438400000000
551647.279986656620
4539738.583697474562
