2.438400000000
0.000000000000
0.000000000000
-2.438400000000
520233.286705066916
4497901.816605554894
