2.438400000000
0.000000000000
0.000000000000
-2.438400000000
530742.855260990793
4511835.158915815875
