2.438400000000
0.000000000000
0.000000000000
-2.438400000000
456511.023747175058
4442315.168454152530
