2.438400000000
0.000000000000
0.000000000000
-2.438400000000
456670.275900279346
4470062.170895268200
