2.438400000000
0.000000000000
0.000000000000
-2.438400000000
488586.730292098771
4483818.842175349590
