2.438400000000
0.000000000000
0.000000000000
-2.438400000000
477972.989115494070
4483842.680643950580
