2.438400000000
0.000000000000
0.000000000000
-2.438400000000
424630.718518356734
4456439.899194624270
