2.438400000000
0.000000000000
0.000000000000
-2.438400000000
446230.043529328308
4497878.724125708450
