2.438400000000
0.000000000000
0.000000000000
-2.438400000000
456824.134075774403
4497810.441045675420
