2.438400000000
0.000000000000
0.000000000000
-2.438400000000
456903.793136274442
4511688.017194401470
