2.438400000000
0.000000000000
0.000000000000
-2.438400000000
414444.309775232744
4498174.873684644690
