2.438400000000
0.000000000000
0.000000000000
-2.438400000000
456744.911232973274
4483937.332431413230
