2.438400000000
0.000000000000
0.000000000000
-2.438400000000
457058.411979063297
4539437.342894013030
