2.438400000000
0.000000000000
0.000000000000
-2.438400000000
435517.619533942255
4484087.981521205970
