2.438400000000
0.000000000000
0.000000000000
-2.438400000000
478129.303986456303
4539346.751787217330
