2.438400000000
0.000000000000
0.000000000000
-2.438400000000
445938.613558260025
4456255.170637971720
