2.438400
0.000000
0.000000
-2.438400
661578.754210
4777488.388224
