2.438400
0.000000
0.000000
-2.438400
671762.997799
4778000.693026
