2.438400000000
0.000000000000
0.000000000000
-2.438400000000
689526.802797180600
4500418.186754869297
