2.438400000000
0.000000000000
0.000000000000
-2.438400000000
668064.633855423890
4513753.691218369640
