2.438400000000
0.000000000000
0.000000000000
-2.438400000000
678618.613453853992
4514015.731184995733
