2.438400000000
0.000000000000
0.000000000000
-2.438400000000
744199.502693224350
4446526.339460847900
